BEGIN:VCALENDAR
VERSION:2.0
PRODID:-//Uncontested Hoops - ECPv6.15.19//NONSGML v1.0//EN
CALSCALE:GREGORIAN
METHOD:PUBLISH
X-WR-CALNAME:Uncontested Hoops
X-ORIGINAL-URL:https://uncontestedhoops.com
X-WR-CALDESC:Events for Uncontested Hoops
REFRESH-INTERVAL;VALUE=DURATION:PT1H
X-Robots-Tag:noindex
X-PUBLISHED-TTL:PT1H
BEGIN:VTIMEZONE
TZID:America/Chicago
BEGIN:DAYLIGHT
TZOFFSETFROM:-0600
TZOFFSETTO:-0500
TZNAME:CDT
DTSTART:20230312T080000
END:DAYLIGHT
BEGIN:STANDARD
TZOFFSETFROM:-0500
TZOFFSETTO:-0600
TZNAME:CST
DTSTART:20231105T070000
END:STANDARD
BEGIN:DAYLIGHT
TZOFFSETFROM:-0600
TZOFFSETTO:-0500
TZNAME:CDT
DTSTART:20240310T080000
END:DAYLIGHT
BEGIN:STANDARD
TZOFFSETFROM:-0500
TZOFFSETTO:-0600
TZNAME:CST
DTSTART:20241103T070000
END:STANDARD
BEGIN:DAYLIGHT
TZOFFSETFROM:-0600
TZOFFSETTO:-0500
TZNAME:CDT
DTSTART:20250309T080000
END:DAYLIGHT
BEGIN:STANDARD
TZOFFSETFROM:-0500
TZOFFSETTO:-0600
TZNAME:CST
DTSTART:20251102T070000
END:STANDARD
END:VTIMEZONE
BEGIN:VEVENT
DTSTART;TZID=America/Chicago:20241123T090000
DTEND;TZID=America/Chicago:20241123T100000
DTSTAMP:20260423T131331
CREATED:20241106T152145Z
LAST-MODIFIED:20241106T152145Z
UID:344-1732352400-1732356000@uncontestedhoops.com
SUMMARY:Basketball Skills Training
DESCRIPTION:Register Today: HERE
URL:https://uncontestedhoops.com/event/basketball-skills-training-14/
LOCATION:Hoopston Athletics\, 7075 FM 1960 Unit 19B\, Houston\, TX\, 77069\, United States
ATTACH;FMTTYPE=image/jpeg:https://uncontestedhoops.com/wp-content/uploads/2024/08/pexels-markusspiske-1752757-1-scaled.jpg
END:VEVENT
BEGIN:VEVENT
DTSTART;TZID=America/Chicago:20241116T090000
DTEND;TZID=America/Chicago:20241116T100000
DTSTAMP:20260423T131331
CREATED:20241106T152041Z
LAST-MODIFIED:20241106T152041Z
UID:342-1731747600-1731751200@uncontestedhoops.com
SUMMARY:Basketball Skills Training
DESCRIPTION:Register Today: HERE
URL:https://uncontestedhoops.com/event/basketball-skills-training-13/
LOCATION:Hoopston Athletics\, 7075 FM 1960 Unit 19B\, Houston\, TX\, 77069\, United States
ATTACH;FMTTYPE=image/jpeg:https://uncontestedhoops.com/wp-content/uploads/2024/08/pexels-markusspiske-1752757-1-scaled.jpg
END:VEVENT
BEGIN:VEVENT
DTSTART;TZID=America/Chicago:20241109T090000
DTEND;TZID=America/Chicago:20241109T100000
DTSTAMP:20260423T131331
CREATED:20241106T151935Z
LAST-MODIFIED:20241106T151935Z
UID:340-1731142800-1731146400@uncontestedhoops.com
SUMMARY:Basketball Skills Training
DESCRIPTION:Register Today: HERE
URL:https://uncontestedhoops.com/event/basketball-skills-training-12/
LOCATION:Hoopston Athletics\, 7075 FM 1960 Unit 19B\, Houston\, TX\, 77069\, United States
ATTACH;FMTTYPE=image/jpeg:https://uncontestedhoops.com/wp-content/uploads/2024/08/pexels-markusspiske-1752757-1-scaled.jpg
END:VEVENT
BEGIN:VEVENT
DTSTART;TZID=America/Chicago:20241026T090000
DTEND;TZID=America/Chicago:20241026T100000
DTSTAMP:20260423T131331
CREATED:20241001T220354Z
LAST-MODIFIED:20241001T220354Z
UID:336-1729933200-1729936800@uncontestedhoops.com
SUMMARY:Basketball Skills Training
DESCRIPTION:Register Today: HERE
URL:https://uncontestedhoops.com/event/basketball-skills-training-11/
LOCATION:Hoopston Athletics\, 7075 FM 1960 Unit 19B\, Houston\, TX\, 77069\, United States
ATTACH;FMTTYPE=image/jpeg:https://uncontestedhoops.com/wp-content/uploads/2024/08/pexels-markusspiske-1752757-1-scaled.jpg
END:VEVENT
BEGIN:VEVENT
DTSTART;TZID=America/Chicago:20241019T090000
DTEND;TZID=America/Chicago:20241019T100000
DTSTAMP:20260423T131331
CREATED:20241001T220254Z
LAST-MODIFIED:20241001T220254Z
UID:334-1729328400-1729332000@uncontestedhoops.com
SUMMARY:Basketball Skills Training
DESCRIPTION:Register Today: HERE
URL:https://uncontestedhoops.com/event/basketball-skills-training-10/
LOCATION:Hoopston Athletics\, 7075 FM 1960 Unit 19B\, Houston\, TX\, 77069\, United States
ATTACH;FMTTYPE=image/jpeg:https://uncontestedhoops.com/wp-content/uploads/2024/08/pexels-markusspiske-1752757-1-scaled.jpg
END:VEVENT
BEGIN:VEVENT
DTSTART;TZID=America/Chicago:20241012T090000
DTEND;TZID=America/Chicago:20241012T100000
DTSTAMP:20260423T131331
CREATED:20241001T220051Z
LAST-MODIFIED:20241001T220051Z
UID:332-1728723600-1728727200@uncontestedhoops.com
SUMMARY:Basketball Skills Training
DESCRIPTION:Register Today: HERE
URL:https://uncontestedhoops.com/event/basketball-skills-training-9/
LOCATION:Hoopston Athletics\, 7075 FM 1960 Unit 19B\, Houston\, TX\, 77069\, United States
ATTACH;FMTTYPE=image/jpeg:https://uncontestedhoops.com/wp-content/uploads/2024/08/pexels-markusspiske-1752757-1-scaled.jpg
END:VEVENT
BEGIN:VEVENT
DTSTART;TZID=America/Chicago:20241005T090000
DTEND;TZID=America/Chicago:20241005T100000
DTSTAMP:20260423T131331
CREATED:20240907T163603Z
LAST-MODIFIED:20240930T182200Z
UID:307-1728118800-1728122400@uncontestedhoops.com
SUMMARY:Basketball Skills Training
DESCRIPTION:Register Today: HERE
URL:https://uncontestedhoops.com/event/basketball-skills-training-8/
LOCATION:Hoopston Athletics\, 7075 FM 1960 Unit 19B\, Houston\, TX\, 77069\, United States
ATTACH;FMTTYPE=image/jpeg:https://uncontestedhoops.com/wp-content/uploads/2024/08/pexels-markusspiske-1752757-1-scaled.jpg
END:VEVENT
BEGIN:VEVENT
DTSTART;TZID=America/Chicago:20240921T090000
DTEND;TZID=America/Chicago:20240921T100000
DTSTAMP:20260423T131331
CREATED:20240907T163541Z
LAST-MODIFIED:20240907T163541Z
UID:306-1726909200-1726912800@uncontestedhoops.com
SUMMARY:Basketball Skills Training
DESCRIPTION:Register Today: HERE
URL:https://uncontestedhoops.com/event/basketball-skills-training-7/
LOCATION:PickUp USA Willowbrook\, 13010 Williow Place Dr. W.\, Houston\, TX\, 77070\, United States
ATTACH;FMTTYPE=image/jpeg:https://uncontestedhoops.com/wp-content/uploads/2024/08/pexels-markusspiske-1752757-1-scaled.jpg
END:VEVENT
BEGIN:VEVENT
DTSTART;TZID=America/Chicago:20240914T090000
DTEND;TZID=America/Chicago:20240914T100000
DTSTAMP:20260423T131331
CREATED:20240907T133708Z
LAST-MODIFIED:20240907T133708Z
UID:297-1726304400-1726308000@uncontestedhoops.com
SUMMARY:Basketball Skills Training
DESCRIPTION:Register Today: HERE
URL:https://uncontestedhoops.com/event/basketball-skills-training-6/
LOCATION:PickUp USA Willowbrook\, 13010 Williow Place Dr. W.\, Houston\, TX\, 77070\, United States
ATTACH;FMTTYPE=image/jpeg:https://uncontestedhoops.com/wp-content/uploads/2024/08/pexels-markusspiske-1752757-1-scaled.jpg
END:VEVENT
BEGIN:VEVENT
DTSTART;TZID=America/Chicago:20240907T090000
DTEND;TZID=America/Chicago:20240907T100000
DTSTAMP:20260423T131331
CREATED:20240906T115009Z
LAST-MODIFIED:20240907T134518Z
UID:275-1725699600-1725703200@uncontestedhoops.com
SUMMARY:Basketball Skills Training
DESCRIPTION:Register Today: HERE
URL:https://uncontestedhoops.com/event/basketball-skills-training-5/
LOCATION:PickUp USA Willowbrook\, 13010 Williow Place Dr. W.\, Houston\, TX\, 77070\, United States
ATTACH;FMTTYPE=image/jpeg:https://uncontestedhoops.com/wp-content/uploads/2024/08/pexels-markusspiske-1752757-1-scaled.jpg
END:VEVENT
BEGIN:VEVENT
DTSTART;TZID=America/Chicago:20240831T030000
DTEND;TZID=America/Chicago:20240831T040000
DTSTAMP:20260423T131331
CREATED:20240813T142311Z
LAST-MODIFIED:20240814T072352Z
UID:149-1725073200-1725076800@uncontestedhoops.com
SUMMARY:Basketball Skills Training
DESCRIPTION:Weekly Sessions: $35 \nBook August: 1 month $125 (4 sessions) \nRegister Today: HERE
URL:https://uncontestedhoops.com/event/basketball-skills-training-3/
LOCATION:PickUp USA Willowbrook\, 13010 Williow Place Dr. W.\, Houston\, TX\, 77070\, United States
END:VEVENT
BEGIN:VEVENT
DTSTART;TZID=America/Chicago:20240824T030000
DTEND;TZID=America/Chicago:20240824T040000
DTSTAMP:20260423T131331
CREATED:20240813T142351Z
LAST-MODIFIED:20240814T072300Z
UID:145-1724468400-1724472000@uncontestedhoops.com
SUMMARY:Basketball Skills Training
DESCRIPTION:Weekly Sessions: $35 \nBook August: 1 month $125 (4 sessions) \nRegister Today: HERE
URL:https://uncontestedhoops.com/event/basketball-skills-training-4/
LOCATION:PickUp USA Willowbrook\, 13010 Williow Place Dr. W.\, Houston\, TX\, 77070\, United States
END:VEVENT
BEGIN:VEVENT
DTSTART;TZID=America/Chicago:20240817T030000
DTEND;TZID=America/Chicago:20240817T040000
DTSTAMP:20260423T131331
CREATED:20240813T142334Z
LAST-MODIFIED:20240814T072429Z
UID:147-1723863600-1723867200@uncontestedhoops.com
SUMMARY:Basketball Skills Training
DESCRIPTION:Weekly Sessions: $35 \nBook August: 1 month $125 (4 sessions) \nRegister Today: HERE
URL:https://uncontestedhoops.com/event/basketball-skills-training-2/
LOCATION:PickUp USA Willowbrook\, 13010 Williow Place Dr. W.\, Houston\, TX\, 77070\, United States
END:VEVENT
BEGIN:VEVENT
DTSTART;TZID=America/Chicago:20240810T030000
DTEND;TZID=America/Chicago:20240810T040000
DTSTAMP:20260423T131331
CREATED:20240808T223053Z
LAST-MODIFIED:20240814T072501Z
UID:91-1723258800-1723262400@uncontestedhoops.com
SUMMARY:Basketball Skills Training
DESCRIPTION:Weekly Sessions: $35 \nBook August: 1 month $125 (4 sessions) \nRegister Today: HERE
URL:https://uncontestedhoops.com/event/basketball-skills-training/
LOCATION:PickUp USA Willowbrook\, 13010 Williow Place Dr. W.\, Houston\, TX\, 77070\, United States
END:VEVENT
END:VCALENDAR